Package: HybridMTest Version: 1.48.0 Command: /home/biocbuild/bbs-3.19-bioc/R/bin/R CMD build --keep-empty-dirs --no-resave-data HybridMTest StartedAt: 2024-10-16 19:00:21 -0400 (Wed, 16 Oct 2024) EndedAt: 2024-10-16 19:00:32 -0400 (Wed, 16 Oct 2024) EllapsedTime: 11.0 seconds RetCode: 0 Status: OK PackageFile: HybridMTest_1.48.0.tar.gz PackageFileSize: 172 KiB