Package: HybridMTest Version: 1.48.0 Command: /Library/Frameworks/R.framework/Resources/bin/R CMD build --keep-empty-dirs --no-resave-data HybridMTest StartedAt: 2024-06-09 16:58:41 -0400 (Sun, 09 Jun 2024) EndedAt: 2024-06-09 16:58:57 -0400 (Sun, 09 Jun 2024) EllapsedTime: 15.8 seconds RetCode: 0 Status: OK PackageFile: HybridMTest_1.48.0.tar.gz PackageFileSize: 172 KiB