Package: HybridMTest Version: 1.48.0 Command: /Library/Frameworks/R.framework/Resources/bin/R CMD INSTALL HybridMTest StartedAt: 2024-10-16 17:46:46 -0400 (Wed, 16 Oct 2024) EndedAt: 2024-10-16 17:46:54 -0400 (Wed, 16 Oct 2024) EllapsedTime: 8.1 seconds RetCode: 0 Status: OK