Package: HybridExpress Version: 1.0.1 Command: E:\biocbuild\bbs-3.19-bioc\R\bin\R.exe CMD check --no-multiarch --install=check:HybridExpress.install-out.txt --library=E:\biocbuild\bbs-3.19-bioc\R\library --no-vignettes --timings HybridExpress_1.0.1.tar.gz StartedAt: 2024-10-17 02:25:07 -0400 (Thu, 17 Oct 2024) EndedAt: 2024-10-17 02:29:31 -0400 (Thu, 17 Oct 2024) EllapsedTime: 264.7 seconds RetCode: 0 Status: OK CheckDir: HybridExpress.Rcheck Warnings: 0