Package: HybridExpress Version: 1.0.1 Command: /home/biocbuild/bbs-3.19-bioc/R/bin/R CMD build --keep-empty-dirs --no-resave-data HybridExpress StartedAt: 2024-10-16 19:00:18 -0400 (Wed, 16 Oct 2024) EndedAt: 2024-10-16 19:01:33 -0400 (Wed, 16 Oct 2024) EllapsedTime: 75.1 seconds RetCode: 0 Status: OK PackageFile: HybridExpress_1.0.1.tar.gz PackageFileSize: 3.067 MiB