Package: HybridExpress Version: 1.0.1 Command: /Library/Frameworks/R.framework/Resources/bin/R CMD INSTALL HybridExpress StartedAt: 2024-10-16 15:51:45 -0400 (Wed, 16 Oct 2024) EndedAt: 2024-10-16 15:52:42 -0400 (Wed, 16 Oct 2024) EllapsedTime: 57.0 seconds RetCode: 0 Status: OK