Package: HybridExpress Version: 1.0.1 Command: /Library/Frameworks/R.framework/Resources/bin/R CMD build --keep-empty-dirs --no-resave-data HybridExpress StartedAt: 2024-10-16 20:05:05 -0400 (Wed, 16 Oct 2024) EndedAt: 2024-10-16 20:08:04 -0400 (Wed, 16 Oct 2024) EllapsedTime: 179.4 seconds RetCode: 0 Status: OK PackageFile: HybridExpress_1.0.1.tar.gz PackageFileSize: 3.411 MiB