Package: HybridExpress Version: 1.0.0 Command: /home/biocbuild/R/R-beta-2024-04-15_r86425/bin/R CMD build --keep-empty-dirs --no-resave-data HybridExpress StartedAt: 2024-05-09 01:00:51 -0000 (Thu, 09 May 2024) EndedAt: 2024-05-09 01:02:31 -0000 (Thu, 09 May 2024) EllapsedTime: 100.2 seconds RetCode: 0 Status: OK PackageFile: HybridExpress_1.0.0.tar.gz PackageFileSize: 2.41 MiB