Package: HybridExpress Version: 1.0.0 Command: rm -rf HybridExpress.buildbin-libdir && mkdir HybridExpress.buildbin-libdir && /Users/biocbuild/BBS/utils/build-universal.sh HybridExpress_1.0.0.tar.gz /Library/Frameworks/R.framework/Resources/bin/R HybridExpress.buildbin-libdir StartedAt: 2024-06-11 11:37:46 -0400 (Tue, 11 Jun 2024) EndedAt: 2024-06-11 11:38:38 -0400 (Tue, 11 Jun 2024) EllapsedTime: 52.0 seconds RetCode: 0 Status: OK PackageFile: HybridExpress_1.0.0.tgz PackageFileSize: 3.505 MiB