Package: HybridExpress Version: 1.0.1 Maintainer: Fabricio Almeida-Silva MaintainerEmail: fabricio_almeidasilva at hotmail.com git_url: https://git.bioconductor.org/packages/HybridExpress git_branch: RELEASE_3_19 git_last_commit: 5d0c81b git_last_commit_date: 2024-09-05 02:16:01 -0400 (Thu, 05 Sep 2024)