Package: HumanTranscriptomeCompendium Version: 1.20.0 Command: chmod a+r HumanTranscriptomeCompendium -R && E:\biocbuild\bbs-3.19-bioc\R\bin\R.exe CMD build --keep-empty-dirs --no-resave-data HumanTranscriptomeCompendium StartedAt: 2024-10-16 19:44:24 -0400 (Wed, 16 Oct 2024) EndedAt: 2024-10-16 19:45:32 -0400 (Wed, 16 Oct 2024) EllapsedTime: 68.8 seconds RetCode: 0 Status: OK PackageFile: HumanTranscriptomeCompendium_1.20.0.tar.gz PackageFileSize: 2.737 MiB