Package: HumanTranscriptomeCompendium Version: 1.20.0 Command: F:\biocbuild\bbs-3.19-bioc\R\bin\R.exe CMD INSTALL HumanTranscriptomeCompendium StartedAt: 2024-06-26 16:18:11 -0400 (Wed, 26 Jun 2024) EndedAt: 2024-06-26 16:18:42 -0400 (Wed, 26 Jun 2024) EllapsedTime: 30.6 seconds RetCode: 0 Status: OK