Package: HumanTranscriptomeCompendium Version: 1.20.0 Command: rm -rf HumanTranscriptomeCompendium.buildbin-libdir && mkdir HumanTranscriptomeCompendium.buildbin-libdir && F:\biocbuild\bbs-3.19-bioc\R\bin\R.exe CMD INSTALL --build --library=HumanTranscriptomeCompendium.buildbin-libdir HumanTranscriptomeCompendium_1.20.0.tar.gz StartedAt: 2024-06-27 08:21:41 -0400 (Thu, 27 Jun 2024) EndedAt: 2024-06-27 08:22:21 -0400 (Thu, 27 Jun 2024) EllapsedTime: 39.4 seconds RetCode: 0 Status: OK PackageFile: HumanTranscriptomeCompendium_1.20.0.zip PackageFileSize: 1.888 MiB