Package: HumanTranscriptomeCompendium Version: 1.20.0 Command: /home/biocbuild/bbs-3.19-bioc/R/bin/R CMD build --keep-empty-dirs --no-resave-data HumanTranscriptomeCompendium StartedAt: 2024-10-16 19:00:04 -0400 (Wed, 16 Oct 2024) EndedAt: 2024-10-16 19:01:02 -0400 (Wed, 16 Oct 2024) EllapsedTime: 58.1 seconds RetCode: 0 Status: OK PackageFile: HumanTranscriptomeCompendium_1.20.0.tar.gz PackageFileSize: 2.789 MiB