Package: HubPub Version: 1.12.0 Command: chmod a+r HubPub -R && E:\biocbuild\bbs-3.19-bioc\R\bin\R.exe CMD build --keep-empty-dirs --no-resave-data HubPub StartedAt: 2024-10-16 19:44:23 -0400 (Wed, 16 Oct 2024) EndedAt: 2024-10-16 19:45:26 -0400 (Wed, 16 Oct 2024) EllapsedTime: 62.9 seconds RetCode: 0 Status: OK PackageFile: HubPub_1.12.0.tar.gz PackageFileSize: 1.301 MiB