Package: HubPub Version: 1.12.0 Command: rm -rf HubPub.buildbin-libdir && mkdir HubPub.buildbin-libdir && E:\biocbuild\bbs-3.19-bioc\R\bin\R.exe CMD INSTALL --build --library=HubPub.buildbin-libdir HubPub_1.12.0.tar.gz StartedAt: 2024-10-17 07:58:02 -0400 (Thu, 17 Oct 2024) EndedAt: 2024-10-17 07:58:17 -0400 (Thu, 17 Oct 2024) EllapsedTime: 14.8 seconds RetCode: 0 Status: OK PackageFile: HubPub_1.12.0.zip PackageFileSize: 959.9 KiB