Package: HubPub Version: 1.12.0 Command: /home/biocbuild/bbs-3.19-bioc/R/bin/R CMD check --install=check:HubPub.install-out.txt --library=/home/biocbuild/bbs-3.19-bioc/R/site-library --timings HubPub_1.12.0.tar.gz StartedAt: 2024-10-17 01:28:16 -0400 (Thu, 17 Oct 2024) EndedAt: 2024-10-17 01:30:35 -0400 (Thu, 17 Oct 2024) EllapsedTime: 139.3 seconds RetCode: 0 Status: OK CheckDir: HubPub.Rcheck Warnings: 0