Package: HubPub Version: 1.12.0 Command: /Library/Frameworks/R.framework/Resources/bin/R CMD check --install=check:HubPub.install-out.txt --library=/Library/Frameworks/R.framework/Resources/library --no-vignettes --timings HubPub_1.12.0.tar.gz StartedAt: 2024-10-18 00:46:23 -0400 (Fri, 18 Oct 2024) EndedAt: 2024-10-18 00:48:23 -0400 (Fri, 18 Oct 2024) EllapsedTime: 119.9 seconds RetCode: 0 Status: OK CheckDir: HubPub.Rcheck Warnings: 0