Package: HubPub Version: 1.12.0 Command: rm -rf HubPub.buildbin-libdir && mkdir HubPub.buildbin-libdir && /Users/biocbuild/BBS/utils/build-universal.sh HubPub_1.12.0.tar.gz /Library/Frameworks/R.framework/Resources/bin/R HubPub.buildbin-libdir StartedAt: 2024-10-18 18:57:05 -0400 (Fri, 18 Oct 2024) EndedAt: 2024-10-18 18:57:13 -0400 (Fri, 18 Oct 2024) EllapsedTime: 8.0 seconds RetCode: 0 Status: OK PackageFile: HubPub_1.12.0.tgz PackageFileSize: 953.7 KiB