Package: HubPub Version: 1.12.0 Maintainer: Kayla Interdonato MaintainerEmail: kayla.morrell16 at gmail.com git_url: https://git.bioconductor.org/packages/HubPub git_branch: RELEASE_3_19 git_last_commit: 9b8523c git_last_commit_date: 2024-04-30 11:34:42 -0400 (Tue, 30 Apr 2024)