Package: HilbertVis Version: 1.62.0 Command: chmod a+r HilbertVis -R && F:\biocbuild\bbs-3.19-bioc\R\bin\R.exe CMD build --keep-empty-dirs --no-resave-data HilbertVis StartedAt: 2024-06-26 19:28:37 -0400 (Wed, 26 Jun 2024) EndedAt: 2024-06-26 19:28:56 -0400 (Wed, 26 Jun 2024) EllapsedTime: 18.4 seconds RetCode: 0 Status: OK PackageFile: HilbertVis_1.62.0.tar.gz PackageFileSize: 1018 KiB