Package: HilbertVis Version: 1.62.0 Command: /home/biocbuild/bbs-3.19-bioc/R/bin/R CMD check --install=check:HilbertVis.install-out.txt --library=/home/biocbuild/bbs-3.19-bioc/R/site-library --timings HilbertVis_1.62.0.tar.gz StartedAt: 2024-10-17 01:24:52 -0400 (Thu, 17 Oct 2024) EndedAt: 2024-10-17 01:25:24 -0400 (Thu, 17 Oct 2024) EllapsedTime: 32.1 seconds RetCode: 0 Status: WARNINGS CheckDir: HilbertVis.Rcheck Warnings: 1