Package: HilbertVis Version: 1.62.0 Command: /Library/Frameworks/R.framework/Resources/bin/R CMD check --install=check:HilbertVis.install-out.txt --library=/Library/Frameworks/R.framework/Resources/library --no-vignettes --timings HilbertVis_1.62.0.tar.gz StartedAt: 2024-06-09 20:54:07 -0400 (Sun, 09 Jun 2024) EndedAt: 2024-06-09 20:54:42 -0400 (Sun, 09 Jun 2024) EllapsedTime: 34.6 seconds RetCode: 0 Status: WARNINGS CheckDir: HilbertVis.Rcheck Warnings: 1