Package: HilbertVis Version: 1.62.0 Command: rm -rf HilbertVis.buildbin-libdir && mkdir HilbertVis.buildbin-libdir && /Users/biocbuild/BBS/utils/build-universal.sh HilbertVis_1.62.0.tar.gz /Library/Frameworks/R.framework/Resources/bin/R HilbertVis.buildbin-libdir StartedAt: 2024-06-10 00:22:18 -0400 (Mon, 10 Jun 2024) EndedAt: 2024-06-10 00:22:25 -0400 (Mon, 10 Jun 2024) EllapsedTime: 6.8 seconds RetCode: 0 Status: OK PackageFile: HilbertVis_1.62.0.tgz PackageFileSize: 1.116 MiB