Package: HilbertVis Version: 1.62.0 Command: /home/biocbuild/R/R-beta-2024-04-15_r86425/bin/R CMD check --install=check:HilbertVis.install-out.txt --library=/home/biocbuild/R/R-beta-2024-04-15_r86425/site-library --no-vignettes --timings HilbertVis_1.62.0.tar.gz StartedAt: 2024-05-09 08:22:09 -0000 (Thu, 09 May 2024) EndedAt: 2024-05-09 08:22:31 -0000 (Thu, 09 May 2024) EllapsedTime: 22.1 seconds RetCode: 0 Status: OK CheckDir: HilbertVis.Rcheck Warnings: 0