Package: HilbertVis Version: 1.62.0 Command: /home/biocbuild/R/R-beta-2024-04-15_r86425/bin/R CMD build --keep-empty-dirs --no-resave-data HilbertVis StartedAt: 2024-05-09 00:57:19 -0000 (Thu, 09 May 2024) EndedAt: 2024-05-09 00:57:28 -0000 (Thu, 09 May 2024) EllapsedTime: 9.0 seconds RetCode: 0 Status: OK PackageFile: HilbertVis_1.62.0.tar.gz PackageFileSize: 1.195 MiB