Package: HilbertCurve Version: 1.34.0 Command: F:\biocbuild\bbs-3.19-bioc\R\bin\R.exe CMD INSTALL HilbertCurve StartedAt: 2024-06-26 15:49:01 -0400 (Wed, 26 Jun 2024) EndedAt: 2024-06-26 15:49:24 -0400 (Wed, 26 Jun 2024) EllapsedTime: 23.0 seconds RetCode: 0 Status: OK