Package: HilbertCurve Version: 1.34.0 Command: chmod a+r HilbertCurve -R && F:\biocbuild\bbs-3.19-bioc\R\bin\R.exe CMD build --keep-empty-dirs --no-resave-data HilbertCurve StartedAt: 2024-06-26 19:28:36 -0400 (Wed, 26 Jun 2024) EndedAt: 2024-06-26 19:31:03 -0400 (Wed, 26 Jun 2024) EllapsedTime: 146.6 seconds RetCode: 0 Status: OK PackageFile: HilbertCurve_1.34.0.tar.gz PackageFileSize: 9.01 MiB