Package: HilbertCurve Version: 1.34.0 Command: rm -rf HilbertCurve.buildbin-libdir && mkdir HilbertCurve.buildbin-libdir && F:\biocbuild\bbs-3.19-bioc\R\bin\R.exe CMD INSTALL --build --library=HilbertCurve.buildbin-libdir HilbertCurve_1.34.0.tar.gz StartedAt: 2024-06-27 08:21:08 -0400 (Thu, 27 Jun 2024) EndedAt: 2024-06-27 08:21:36 -0400 (Thu, 27 Jun 2024) EllapsedTime: 27.7 seconds RetCode: 0 Status: OK PackageFile: HilbertCurve_1.34.0.zip PackageFileSize: 5.785 MiB