Package: HilbertCurve Version: 1.34.0 Command: /Library/Frameworks/R.framework/Resources/bin/R CMD check --install=check:HilbertCurve.install-out.txt --library=/Library/Frameworks/R.framework/Resources/library --no-vignettes --timings HilbertCurve_1.34.0.tar.gz StartedAt: 2024-06-09 20:53:30 -0400 (Sun, 09 Jun 2024) EndedAt: 2024-06-09 20:55:54 -0400 (Sun, 09 Jun 2024) EllapsedTime: 143.9 seconds RetCode: 0 Status: OK CheckDir: HilbertCurve.Rcheck Warnings: 0