Package: HicAggR Version: 1.0.2 Command: E:\biocbuild\bbs-3.19-bioc\R\bin\R.exe CMD INSTALL HicAggR StartedAt: 2024-10-16 16:26:52 -0400 (Wed, 16 Oct 2024) EndedAt: 2024-10-16 16:27:33 -0400 (Wed, 16 Oct 2024) EllapsedTime: 40.8 seconds RetCode: 0 Status: OK