Package: HicAggR Version: 1.0.2 Command: E:\biocbuild\bbs-3.19-bioc\R\bin\R.exe CMD check --no-multiarch --install=check:HicAggR.install-out.txt --library=E:\biocbuild\bbs-3.19-bioc\R\library --no-vignettes --timings HicAggR_1.0.2.tar.gz StartedAt: 2024-10-17 02:17:14 -0400 (Thu, 17 Oct 2024) EndedAt: 2024-10-17 02:26:40 -0400 (Thu, 17 Oct 2024) EllapsedTime: 565.4 seconds RetCode: 0 Status: WARNINGS CheckDir: HicAggR.Rcheck Warnings: 1