Package: HicAggR Version: 1.0.2 Command: chmod a+r HicAggR -R && E:\biocbuild\bbs-3.19-bioc\R\bin\R.exe CMD build --keep-empty-dirs --no-resave-data HicAggR StartedAt: 2024-10-16 19:40:42 -0400 (Wed, 16 Oct 2024) EndedAt: 2024-10-16 19:46:50 -0400 (Wed, 16 Oct 2024) EllapsedTime: 368.1 seconds RetCode: 0 Status: OK PackageFile: HicAggR_1.0.2.tar.gz PackageFileSize: 3.009 MiB