Package: HicAggR Version: 1.0.2 Command: /home/biocbuild/bbs-3.19-bioc/R/bin/R CMD INSTALL HicAggR StartedAt: 2024-10-16 16:04:10 -0400 (Wed, 16 Oct 2024) EndedAt: 2024-10-16 16:04:37 -0400 (Wed, 16 Oct 2024) EllapsedTime: 27.3 seconds RetCode: 0 Status: OK