Package: HicAggR Version: 1.0.2 Command: /Library/Frameworks/R.framework/Resources/bin/R CMD check --install=check:HicAggR.install-out.txt --library=/Library/Frameworks/R.framework/Resources/library --no-vignettes --timings HicAggR_1.0.2.tar.gz StartedAt: 2024-10-17 06:35:29 -0400 (Thu, 17 Oct 2024) EndedAt: 2024-10-17 06:55:02 -0400 (Thu, 17 Oct 2024) EllapsedTime: 1173.0 seconds RetCode: 0 Status: WARNINGS CheckDir: HicAggR.Rcheck Warnings: 1