Package: HicAggR Version: 1.0.2 Command: /Library/Frameworks/R.framework/Resources/bin/R CMD build --keep-empty-dirs --no-resave-data HicAggR StartedAt: 2024-06-09 16:56:14 -0400 (Sun, 09 Jun 2024) EndedAt: 2024-06-09 17:01:44 -0400 (Sun, 09 Jun 2024) EllapsedTime: 329.6 seconds RetCode: 0 Status: OK PackageFile: HicAggR_1.0.2.tar.gz PackageFileSize: 3.331 MiB