Package: HicAggR Version: 1.0.2 Command: /Library/Frameworks/R.framework/Resources/bin/R CMD build --keep-empty-dirs --no-resave-data HicAggR StartedAt: 2024-10-17 02:18:47 -0400 (Thu, 17 Oct 2024) EndedAt: 2024-10-17 02:25:09 -0400 (Thu, 17 Oct 2024) EllapsedTime: 381.5 seconds RetCode: 0 Status: OK PackageFile: HicAggR_1.0.2.tar.gz PackageFileSize: 3.331 MiB