Package: HiTC Version: 1.48.0 Command: chmod a+r HiTC -R && E:\biocbuild\bbs-3.19-bioc\R\bin\R.exe CMD build --keep-empty-dirs --no-resave-data HiTC StartedAt: 2024-10-16 19:42:38 -0400 (Wed, 16 Oct 2024) EndedAt: 2024-10-16 19:47:41 -0400 (Wed, 16 Oct 2024) EllapsedTime: 302.8 seconds RetCode: 0 Status: OK PackageFile: HiTC_1.48.0.tar.gz PackageFileSize: 3 MiB