Package: HiTC Version: 1.48.0 Command: rm -rf HiTC.buildbin-libdir && mkdir HiTC.buildbin-libdir && E:\biocbuild\bbs-3.19-bioc\R\bin\R.exe CMD INSTALL --build --library=HiTC.buildbin-libdir HiTC_1.48.0.tar.gz StartedAt: 2024-10-17 07:57:46 -0400 (Thu, 17 Oct 2024) EndedAt: 2024-10-17 07:59:04 -0400 (Thu, 17 Oct 2024) EllapsedTime: 77.5 seconds RetCode: 0 Status: OK PackageFile: HiTC_1.48.0.zip PackageFileSize: 3.556 MiB