Package: HiTC Version: 1.48.0 Command: chmod a+r HiTC -R && F:\biocbuild\bbs-3.19-bioc\R\bin\R.exe CMD build --keep-empty-dirs --no-resave-data HiTC StartedAt: 2024-06-26 19:29:24 -0400 (Wed, 26 Jun 2024) EndedAt: 2024-06-26 19:36:20 -0400 (Wed, 26 Jun 2024) EllapsedTime: 416.7 seconds RetCode: 0 Status: OK PackageFile: HiTC_1.48.0.tar.gz PackageFileSize: 2.999 MiB