Package: HiTC Version: 1.48.0 Command: rm -rf HiTC.buildbin-libdir && mkdir HiTC.buildbin-libdir && F:\biocbuild\bbs-3.19-bioc\R\bin\R.exe CMD INSTALL --build --library=HiTC.buildbin-libdir HiTC_1.48.0.tar.gz StartedAt: 2024-06-27 08:21:21 -0400 (Thu, 27 Jun 2024) EndedAt: 2024-06-27 08:22:30 -0400 (Thu, 27 Jun 2024) EllapsedTime: 70.0 seconds RetCode: 0 Status: OK PackageFile: HiTC_1.48.0.zip PackageFileSize: 3.555 MiB