Package: HiTC Version: 1.48.0 Command: /home/biocbuild/bbs-3.19-bioc/R/bin/R CMD check --install=check:HiTC.install-out.txt --library=/home/biocbuild/bbs-3.19-bioc/R/site-library --timings HiTC_1.48.0.tar.gz StartedAt: 2024-10-17 01:25:44 -0400 (Thu, 17 Oct 2024) EndedAt: 2024-10-17 01:31:50 -0400 (Thu, 17 Oct 2024) EllapsedTime: 365.8 seconds RetCode: 0 Status: WARNINGS CheckDir: HiTC.Rcheck Warnings: 2