Package: HiTC Version: 1.48.0 Command: /Library/Frameworks/R.framework/Resources/bin/R CMD INSTALL HiTC StartedAt: 2024-10-16 15:36:08 -0400 (Wed, 16 Oct 2024) EndedAt: 2024-10-16 15:37:45 -0400 (Wed, 16 Oct 2024) EllapsedTime: 96.6 seconds RetCode: 0 Status: OK