Package: HiTC Version: 1.48.0 Command: /Library/Frameworks/R.framework/Resources/bin/R CMD build --keep-empty-dirs --no-resave-data HiTC StartedAt: 2024-10-16 20:02:02 -0400 (Wed, 16 Oct 2024) EndedAt: 2024-10-16 20:07:37 -0400 (Wed, 16 Oct 2024) EllapsedTime: 334.7 seconds RetCode: 0 Status: OK PackageFile: HiTC_1.48.0.tar.gz PackageFileSize: 3.126 MiB