Package: HiTC Version: 1.48.0 Command: /Library/Frameworks/R.framework/Resources/bin/R CMD check --install=check:HiTC.install-out.txt --library=/Library/Frameworks/R.framework/Resources/library --no-vignettes --timings HiTC_1.48.0.tar.gz StartedAt: 2024-06-09 20:54:58 -0400 (Sun, 09 Jun 2024) EndedAt: 2024-06-09 20:59:50 -0400 (Sun, 09 Jun 2024) EllapsedTime: 291.8 seconds RetCode: 0 Status: WARNINGS CheckDir: HiTC.Rcheck Warnings: 1