Package: HiTC Version: 1.48.0 Command: rm -rf HiTC.buildbin-libdir && mkdir HiTC.buildbin-libdir && /Users/biocbuild/BBS/utils/build-universal.sh HiTC_1.48.0.tar.gz /Library/Frameworks/R.framework/Resources/bin/R HiTC.buildbin-libdir StartedAt: 2024-06-11 11:36:49 -0400 (Tue, 11 Jun 2024) EndedAt: 2024-06-11 11:38:08 -0400 (Tue, 11 Jun 2024) EllapsedTime: 78.5 seconds RetCode: 0 Status: OK PackageFile: HiTC_1.48.0.tgz PackageFileSize: 3.681 MiB