Package: HiTC Version: 1.48.0 Maintainer: Nicolas Servant MaintainerEmail: nicolas.servant at curie.fr git_url: https://git.bioconductor.org/packages/HiTC git_branch: RELEASE_3_19 git_last_commit: 672d1ca git_last_commit_date: 2024-04-30 10:27:29 -0400 (Tue, 30 Apr 2024)