Package: HiLDA Version: 1.18.0 Command: E:\biocbuild\bbs-3.19-bioc\R\bin\R.exe CMD INSTALL HiLDA StartedAt: 2024-10-16 16:32:28 -0400 (Wed, 16 Oct 2024) EndedAt: 2024-10-16 16:33:14 -0400 (Wed, 16 Oct 2024) EllapsedTime: 46.0 seconds RetCode: 0 Status: OK