Package: HiLDA Version: 1.18.0 Command: /home/biocbuild/bbs-3.19-bioc/R/bin/R CMD check --install=check:HiLDA.install-out.txt --library=/home/biocbuild/bbs-3.19-bioc/R/site-library --timings HiLDA_1.18.0.tar.gz StartedAt: 2024-10-17 01:25:24 -0400 (Thu, 17 Oct 2024) EndedAt: 2024-10-17 01:32:09 -0400 (Thu, 17 Oct 2024) EllapsedTime: 405.0 seconds RetCode: 0 Status: OK CheckDir: HiLDA.Rcheck Warnings: 0