Package: HiLDA Version: 1.18.0 Command: /Library/Frameworks/R.framework/Resources/bin/R CMD INSTALL HiLDA StartedAt: 2024-10-16 15:44:15 -0400 (Wed, 16 Oct 2024) EndedAt: 2024-10-16 15:44:53 -0400 (Wed, 16 Oct 2024) EllapsedTime: 38.5 seconds RetCode: 0 Status: OK